BEGIN:VCALENDAR
VERSION:2.0
PRODID:-//https://candlewoodknolls.brand24llc.com//NONSGML kigkonsult.se iCalcreator 2.41.71//
CALSCALE:GREGORIAN
METHOD:PUBLISH
UID:36613136-3934-4864-a265-313131663666
X-WR-CALNAME:JCal Pro Calendar
X-WR-CALDESC:Your online events calendar
X-WR-TIMEZONE:America/New_York
BEGIN:VTIMEZONE
TZID:America/New_York
TZUNTIL:20271107T060000Z
BEGIN:STANDARD
TZNAME:EST
DTSTART:20251102T020000
TZOFFSETFROM:-0400
TZOFFSETTO:-0500
RDATE:20261101T020000
END:STANDARD
BEGIN:DAYLIGHT
TZNAME:EDT
DTSTART:20260308T020000
TZOFFSETFROM:-0500
TZOFFSETTO:-0400
RDATE:20270314T020000
END:DAYLIGHT
END:VTIMEZONE
BEGIN:VEVENT
UID:20250608T080000UTC-3804ZHni4w@https://candlewoodknolls.com/
DTSTAMP:20260423T041656Z
CATEGORIES:Events
CATEGORIES:Clubhouse
DTSTART;TZID=America/New_York:20250608T080000
DTEND;TZID=America/New_York:20250608T140000
SUMMARY:Downstairs Rental
URL:https://candlewoodknolls.brand24llc.com/index.php/clubhouse-calendar/9-
 events/334-downstairs-rental
END:VEVENT
BEGIN:VEVENT
UID:20250614T140000UTC-3795xVaaMw@https://candlewoodknolls.com/
DTSTAMP:20260423T041656Z
CATEGORIES:Events
CATEGORIES:Clubhouse
DTSTART;TZID=America/New_York:20250614T140000
DTEND;TZID=America/New_York:20250614T200000
SUMMARY:Downstairs Rented
URL:https://candlewoodknolls.brand24llc.com/index.php/clubhouse-calendar/9-
 events/319-downstairs-rented
END:VEVENT
END:VCALENDAR
