BEGIN:VCALENDAR
VERSION:2.0
PRODID:-//https://candlewoodknolls.brand24llc.com//NONSGML kigkonsult.se iCalcreator 2.41.71//
CALSCALE:GREGORIAN
METHOD:PUBLISH
UID:62656436-3266-4061-b936-646561393031
X-WR-CALNAME:JCal Pro Calendar
X-WR-CALDESC:Your online events calendar
X-WR-TIMEZONE:America/New_York
BEGIN:VTIMEZONE
TZID:America/New_York
TZUNTIL:20271107T060000Z
BEGIN:STANDARD
TZNAME:EST
DTSTART:20251102T020000
TZOFFSETFROM:-0400
TZOFFSETTO:-0500
RDATE:20261101T020000
END:STANDARD
BEGIN:DAYLIGHT
TZNAME:EDT
DTSTART:20260308T020000
TZOFFSETFROM:-0500
TZOFFSETTO:-0400
RDATE:20270314T020000
END:DAYLIGHT
END:VTIMEZONE
BEGIN:VEVENT
UID:20220716T110000EDT-6963A8L7r5@https://candlewood.brand24llc.com/
DTSTAMP:20260420T133127Z
CATEGORIES:CKCP_Calendar
DTSTART;TZID=America/New_York:20220716T000000
DTEND;TZID=America/New_York:20220716T235959
SUMMARY:Family Picnic
URL:https://candlewoodknolls.brand24llc.com/index.php/ckcp-calendar/23-ckcp
 -calendar/101-family-picnic
END:VEVENT
END:VCALENDAR
